Workbook
Name витр_мат: #REF!
Name ЄСВ: [1]Вхідні_дані!$H$2:$H$3
Name Лік_засоби: #REF!
Name мед_обл: #REF!
Name участь: #REF!

Sheet Титул
A2: Fin_Stab 1.0: Базовий електронний інструмент з оцінки фінансової стійкості закладів охорони здоров'я
Q8: Умовні позначення
Q9: дані потребують заповнення
Q10: показник розраховується автоматично
Q11: орієнтири (цільові значення, вагові значення)
C16: Проєкт USAID «Підтримка реформи охорони здоров’я»
A17: Цей документ підготовлено за підтримки Агентства США з міжнародного розвитку (USAID), наданої від імені народу Сполучених Штатів Америки. Відповідальність за зміст цього документу, який необов'язково відображає погляди USAID, Уряду Сполучених Штатів Америки, несе виключно компанія ТОВ «Делойт Консалтинг» у межах контракту №72012118C00001.

Sheet ПМД_Вхідні_дані
B1: Fin_Stab 1.0: Базовий електронний інструмент з оцінки фінансової стійкості закладів охорони здоров'я
B3: Вхідні дані надавача ПМД
B5: Назва закладу:
B6: Дата проведення обрахунку: (число.місяць.рік):
B7: Область: (обрати зі списку)
B8: Звітний період: (обрати зі списку)
B9: Період року, за який проводиться аналіз: (обрати зі списку)
B10: Кількість місяців, за який проводиться аналіз: (заповнюється автоматично) | C10: =IFERROR(LOOKUP(C9,tech!B1:B3,tech!C1:C3),0) -> 0
B12: Вхідні дані для обрахунків у блоці "Доходи"
B13: Назва показника | C13: Значення показника за звітний період | D13: Джерело інформації
B14: Загальні доходи закладу (грн) | C14: =SUM(C15:C18) -> 0 | D14: Звітність закладу 1нс, таблиця 4
B15: Дохід пакетом Програми медичних гарантій "Первинна медична допомога" (грн) | D15: Звітність закладу 1нс, додаток "Доходи ПМГ"
B16: Дохід за іншими пакетами Програми медичних гарантій (грн) | D16: Звітність закладу 1нс, додаток "Доходи ПМГ"
B17: Дохід від надання послуг за кошти фізичних і юридичних осіб (грн) | D17: Звітність закладу 1нс, таблиця 4
B18: Інші доходи (грн) | D18: Звітність закладу 1нс, таблиця 4
B19: Кількість підписаних декларацій з лікарями ПМД (од.) | C19: =SUM(C20:C22) -> 0 | D19: Дашборд НСЗУ/Дані МІС
B20: у лікарів загальної практики-сімейних лікарів (од.) | D20: Дашборд НСЗУ/Дані МІС
B21: у лікарів-терапевтів (од.) | D21: Дашборд НСЗУ/Дані МІС
B22: у лікарів-педіатрів (од.) | D22: Дашборд НСЗУ/Дані МІС
B23: Поточна кредиторська заборгованість за товари, роботи і послуги (грн) | D23: Звітність закладу 1нс, звіт 9
B24: Дебіторська заборгованість за продукцію, товари, роботи, послуги (грн) | D24: Звітність закладу 1нс, звіт 9
B26: Вхідні дані для обрахунків у блоці "Витрати"
B27: Назва показника | C27: Значення показника за звітний період | D27: Джерело інформації
B28: Дохід від реалізації товарів робіт і послуг (грн) | D28: Звітність закладу 1нс, таблиця 4
B29: Виробничі витрати (грн) | D29: Звітність закладу 1нс, таблиця 5.1
B30: Запаси лікарських засобів та виробів медичного призначення на кінець періоду (грн) | D30: Звітність закладу
B31: Обсяг споживання лікарських засобів та виробів медичного призначення (використання ТМЦ) (грн) | D31: Звітність закладу
B32: Кількість місяців, за який проводиться аналіз (міс.) | C32: =C10 -> 0 | D32: х
B33: Сума загальних витрат закладу (грн) | D33: Звітність закладу 1нс, таблиця 6
B34: Капітальні інвестиції (грн) | D34: Звітність закладу 1нс, таблиця 3
B35: =B14 -> Загальні доходи закладу (грн) | C35: =C14 -> 0 | D35: =D14 -> Звітність закладу 1нс, таблиця 4
B36: Витрати на оплату праці (грн) | D36: Звітність закладу 1нс, таблиця 6
B37: Відрахування на соціальні заходи (грн) | D37: Звітність закладу 1нс, таблиця 6
B39: Вхідні дані для обрахунків у блоці "Результативність"
B40: Назва показника | C40: Значення показника за звітний період | D40: Джерело інформації
B41: =B35 -> Загальні доходи закладу (грн) | C41: =C35 -> 0 | D41: =D35 -> Звітність закладу 1нс, таблиця 4
B42: =B33 -> Сума загальних витрат закладу (грн) | C42: =C33 -> 0 | D42: =D33 -> Звітність закладу 1нс, таблиця 6
B43: Сума зносу основних засобів (грн) | D43: Звітність закладу 1нс, звіт 9
B44: Первісна вартість основних засобів (грн) | D44: Звітність закладу 1нс, звіт 9
B45: Поточні фінансові інвестиції (грн) | D45: Звітність закладу 1нс, звіт 9
...

Sheet ПМД_Цільові_значення
B1: Fin_Stab 1.0: Базовий електронний інструмент з оцінки фінансової стійкості закладів охорони здоров'я
B3: Цільові значення показників фінансової стійкості надавача ПМД
B5: Доходи | C5: Дефініція | D5: Цільові значення | G5: Витрати | H5: Дефініція | I5: Цільові значення | L5: Результативність | M5: Дефініція | N5: Цільові значення
B7: Дохід за пакетом Програми медичних гарантій "Первинна медична допомога" у розрахунку на одну підписану декларацію (грн на 1 декларацію) | C7: Показник характеризує частку "базового" пакету ПМД у розрахунку на 1 декларацію. За оптимальний показник взято значення базової капітаційної ставки ПМГ-2024 без урахування коригуючих коефіцієнтів, коефіцієнтів за перевищення оптимального обсягу практики ПМД та ін. | D7: > | E7: =IFERROR(LOOKUP(ПМД_Вхідні_дані!C8,tech!H2:H8,tech!I2:I8),0) -> 0 | G7: Коефіцієнт окупності виробничих витрат (коефіцієнт) | H7: Показник характеризує частку виробничих витрат у 1 гривні отриманого доходу підприємства. Оптимальне значення показує, що заклад за рахунок одержаної грошової виручки повністю відшкодувало витрати і додатково одержало на кожну гривню витрат по 0,9 грн прибутку). | I7: < | J7: 0.9 | L7: Фінансовий результат закладу (грн) | M7: Показник показує різницю між доходами та витратами закладу у звітному періоді і характеризує всі сторони фінансово-господарської діяльності підприємства. Оптимальне значення - це перевищення доходів над витратами у звітному періоді. | N7: > | O7: 0
B8: Питома вага доходів за Програмою медичних гарантій (всі пакети) у загальних доходах закладу (%) | C8: Показник характеризує частку фінансування в рамках Програми медичних гарантій у загальному доході закладу. Оптимальний показник - оптимальна частка з урахуванням інших джерел доходів закладу. | D8: > | E8: 0.65 | G8: Кількість середньомісячних запасів лікарських засобів та виробів медичного призначення на складі на кінець періоду (міс.) | H8: Показник характеризує ступінь забезпеченості лікарськими засобами та виробами медичного призначення, які можуть покрити потреби закладу на певний період. Значення показника в оптимальних межах свідчить про забезпечення безперебійності надання медичної допомоги. Значення даного показника доцільно порівнювати з іншими розрахунковими показниками для того, щоб пересвідчитись чи не накопичує підприємство запаси, в той час як є незабезпеченість коштами на виплату заробітної плати, або значно зросла кредиторська заборгованість, тощо. | I8: >= | J8: 3 | L8: Ступінь зносу основних засобів (%) | M8: Показник характеризує ступінь зносу та відшкодування витрат на формування основних засобів. Основні засоби мають бути у відповідному технічному стані для забезпечення нормальних умов процесу діяльності та підвищення його ефективності. | N8: < | O8: 0.3
I9: <= | J9: 6
B10: Співвідношення короткострокової дебіторської та кредиторської заборгованості (коефіцієнт) | C10: Показник характеризує якість фінансової політики закладу. Показник враховує вплив кредиторської та дебіторської заборгованості на ліквідність і платоспроможність. Збалансованість грошових потоків у процесі розрахунків з постачальниками позитивно впливає на фінансовий стан закладу. Оптимальним значенням показника є значення, яке приблизно дорівнює одиниці. | D10: = | E10: 1 | G10: Питома вага капітальних інвестицій у загальних витратах закладу (%) | H10: Капітальні інвестиції є важливим фактором розширеного відтворення основних засобів та інших необоротних активів підприємства. Для стабільного функціонування закладу капітальні інвестиції мають здійснюватися на регулярній основі. | I10: > | J10: 0.05 | L10: Коефіцієнт абсолютної ліквідності (коефіцієнт) | M10: Показник характеризує ту частину короткотермінових фінансових зобов'язань підприємства, яка може бути сплачена за рахунок ліквідних активів (грошових коштів та їх еквівалентів), тобто спроможність підприємства негайно погасити свою короткотермінову кредиторську заборгованість. | N10: >= | O10: 0.2
N11: <= | O11: 0.25
B12: Питома вага доходів від надання послуг за кошти фізичних і юридичних осіб у загальних доходах закладу (%) | C12: Показник характеризує частку доходів від надання послуг за кошти фізичних і юридичних осіб ("платні послуги") у загальному доході закладу. Оптимальний показник - це значення з урахуванням інших джерел доходів закладу. | D12: > | E12: 0.05 | G12: Коефіцієнт трудоємності (коефіцієнт) | H12: Показник характеризує яка частка витрат на оплату праці в 1 гривні загального доходу закладу. | I12: < | J12: 1 | L12: Дохідність основних засобів (%) | M12: Показник характеризує ефективність використання активів підприємства для генерації доходу. | N12: > | O12: 1
B14: Персонал | C14: Дефініція | D14: Цільові значення | G14: Оплата праці | H14: Дефініція | I14: Цільові значення | L14: Пацієнти | M14: Дефініція | N14: Цільові значення
B16: Постійність кадрів (%) | C16: Показник характеризує сталість колективу закладу, який працює більше 1 року, адже у такому випадку скоріше за все цей персонал і надалі працюватиме у закладі. | D16: > | E16: 0.9 | G16: Середнє співвідношення середньомісячної заробітної плати лікарів закладу із встановленим мінімальним розміром оплати праці (%) | H16: Показник порівнює показники закладу з нормами постанови КМУ №28 "Деякі питання оплати праці працівників державних та комунальних закладів охорони здоров’я" - 20000 грн для осіб, які займають лікарські посади у закладах охорони здоров’я (крім лікарів-інтернів), посади фармацевтів (крім фармацевтів-інтернів), посади професіоналів у галузі охорони здоров’я у закладах та посади професіоналів з вищою немедичною освітою у сфері охорони здоров’я. | I16: > | J16: 1 | L16: Середня кількість задекларованих пацієнтів у розрахунку на одного лікаря загальної практики-сімейного лікаря (декларацій на 1 лікаря) | M16: Показник характеризує порівняння розрахункових показників закладу із оптимальним обсягом практики ПМД відповідно до наказу МОЗ №504 "Про затвердження Порядку надання первинної медичної допомоги" - 1800 осіб на одного лікаря загальної практики - сімейного лікаря. | N16: < | O16: 1801
B17: Плинність кадрів (%) | C17: Показник характеризує рух персоналу у закладі, який обумовлений незадоволеністю працівників якими-небудь елементами виробничої ситуації або незадоволеністю адміністрації виробничою поведінкою працівника. | D17: < | E17: 0.65 | G17: Середнє співвідношення середньомісячної заробітної плати середнього медичного персоналу закладу із встановленим мінімальним розміром оплати праці (%) | H17: Показник порівнює показники закладу з нормами постанови КМУ №28 "Деякі питання оплати праці працівників державних та комунальних закладів охорони здоров’я" - 13500 грн для осіб, які займають посади у закладах охорони здоров’я, віднесені єдиними кваліфікаційними вимогами до посад фахівців (крім лікарів-інтернів та фармацевтів-інтернів). | I17: > | J17: 1 | L17: Середня кількість задекларованих пацієнтів у розрахунку на одного лікаря-терапевта (декларацій на 1 лікаря) | M17: Показник характеризує порівняння розрахункових показників закладу із оптимальним обсягом практики ПМД відповідно до наказу МОЗ №504 "Про затвердження Порядку надання первинної медичної допомоги" - 2000 осіб на одного лікаря загальної практики - сімейного лікаря. | N17: < | O17: 2001
B18: Коефіцієнт перекваліфікації (підвищення кваліфікації) персоналу (%) | C18: Показник характеризує якісне зростання персоналу та використання можливостей щодо вдосконалення знань, умінь та навиків за спеціальністю, оволодіння функціональними обов'язками, які впливатимуть на підвищення продуктивності праці та загальної ефективності роботи всього закладу. | D18: = | E18: 1 | G18: Кількість середньомісячних фондів оплати праці забезпечених залишками грошових коштів (од.) | H18: Показник характеризує забезпеченість підприємства коштами на забезпечення витрат на оплату праці на оптимальну кількість місяців. Значення даного показника доцільно порівнювати з іншими розрахунковими показниками (кредиторська заборгованість за товари, роботи і послуги, інші зобов'язання, тощо) для того, щоб пересвідчитись чи дійсно залишок коштів може покрити витрати на оплату праці на відповідну кількість місяців. | I18: >= | J18: 2 | L18: Середня кількість задекларованих пацієнтів у розрахунку на одного лікаря-педіатра (декларацій на 1 лікаря) | M18: Показник характеризує порівняння розрахункових показників закладу із оптимальним обсягом практики ПМД відповідно до наказу МОЗ №504 "Про затвердження Порядку надання первинної медичної допомоги" - 900 осіб на одного лікаря загальної практики - сімейного лікаря. | N18: < | O18: 901
I19: <= | J19: 3
B20: Кількість середнього медичного персоналу у розрахунку на 1 лікаря ПМД | C20: Показник характеризує оптимальну кількість середнього медичного персоналу, який входить до команди надання ПМД. | D20: = | E20: 2 | G20: Співвідношення середньої заробітної плати працівників закладу до середньомісячної заробітної плати по регіону (%) | H20: Показник характеризує рівень конкурентоспроможності закладу забезпечувати своїх працівників відповідним рівнем заробітної плати порівняно з регіональними показниками. | I20: > | J20: 1.5 | L20: Скарги пацієнтів на неформальні платежі (%) | M20: Показник відображає виконання закладом обов’язків за договором про медичне обслуговування населення на користь пацієнтів (забезпечувати реалізацію пацієнтами їхніх прав на отримання медичних послуг; забезпечувати захист персональних даних пацієнтів; використовувати для надання медичних послуг лікарські засоби та медичні вироби, що дозволені до застосування в Україні та ін.). | N20: = | O20: 0

Sheet ПМД_Розрахунки
B1: Fin_Stab 1.0: Базовий електронний інструмент з оцінки фінансової стійкості закладів охорони здоров'я
B3: Показники фінансової стійкості надавача ПМД
B5: =ПМД_Вхідні_дані!B5 -> Назва закладу: | C5: =ПМД_Вхідні_дані!C5 -> 0
B6: Дата проведення обрахунку: | C6: =IF(ПМД_Вхідні_дані!C6>0,ПМД_Вхідні_дані!C6,IF(ПМД_Вхідні_дані!C6<0,"-",IF(ПМД_Вхідні_дані!C6=0,"-","-"))) -> -
B7: Розрахункова оцінка фінансової стійкості закладу | C7: =I13+R13+AA13+I27+R27+AA27 -> 0
C8: =IF(C7>0,IF(OR(AND(ПМД_Розрахунки!C7>tech!C7,ПМД_Розрахунки!C7<tech!D7),ПМД_Розрахунки!C7=tech!C7,ПМД_Розрахунки!C7=tech!D7),tech!B7,IF(OR(AND(ПМД_Розрахунки!C7>tech!C6,ПМД_Розрахунки!C7<tech!D6),ПМД_Розрахунки!C7=tech!C6,ПМД_Розрахунки!C7=tech!D6),tech!B6,IF(OR(ПМД_Розрахунки!C7>tech!C5,ПМД_Розрахунки!C7=tech!C5),tech!B5,IF(OR(ПМД_Розрахунки!C7<tech!C8,C7=tech!C8),tech!B8)))),"-") -> -
B12: Доходи | C12: Вхідні дані для обрахунку | E12: Розрахунковий показник закладу | F12: Цільове значення показника | H12: Вагове цільове значення | I12: Результат для фін.стійкості | K12: Витрати | L12: Вхідні дані для обрахунку | N12: Розрахунковий показник закладу | O12: Цільове значення показника | Q12: Вагове цільове значення | R12: Результат для фін.стійкості | T12: Результативність | U12: Вхідні дані для обрахунку | W12: Розрахунковий показник закладу | X12: Цільове значення показника | Z12: Вагове цільове значення | AA12: Результат для фін.стійкості
H13: =SUM(H14:H22) -> 0.2 | I13: =IFERROR(SUM(I14:I24),"-") -> 0 | Q13: =SUM(Q14:Q22) -> 0.1 | R13: =IFERROR(SUM(R14:R24),"-") -> 0 | Z13: =SUM(Z14:Z22) -> 0.1 | AA13: =IFERROR(SUM(AA14:AA24),"-") -> 0
B14: Дохід за пакетом Програми медичних гарантій "Первинна медична допомога" у розрахунку на одну підписану декларацію (грн на 1 декларацію) | C14: =ПМД_Вхідні_дані!B15 -> Дохід пакетом Програми медичних гарантій "Первинна медична допомога" (грн) | D14: =ПМД_Вхідні_дані!C15 -> 0 | E14: =IFERROR(D14/D15,0) -> 0 | F14: =ПМД_Цільові_значення!D7 -> > | G14: =ПМД_Цільові_значення!E7 -> 0 | H14: 0.05 | I14: =IF(ПМД_Розрахунки!E14>G14,ПМД_Розрахунки!H14,0) -> 0 | K14: Коефіцієнт окупності виробничих витрат (коефіцієнт) | L14: =ПМД_Вхідні_дані!B28 -> Дохід від реалізації товарів робіт і послуг (грн) | M14: =ПМД_Вхідні_дані!C28 -> 0 | N14: =IFERROR(M15/M14,0) -> 0 | O14: =ПМД_Цільові_значення!I7 -> < | P14: =ПМД_Цільові_значення!J7 -> 0.9 | Q14: 0.025 | R14: =IF(AND(N14>0,ПМД_Розрахунки!N14<P14),ПМД_Розрахунки!Q14,0) -> 0 | T14: Фінансовий результат закладу (грн) | U14: =ПМД_Вхідні_дані!B41 -> Загальні доходи закладу (грн) | V14: =ПМД_Вхідні_дані!C41 -> 0 | W14: =IFERROR(V14-V15,0) -> 0 | X14: =ПМД_Цільові_значення!N7 -> > | Y14: =ПМД_Цільові_значення!O7 -> 0 | Z14: 0.025 | AA14: =IF(ПМД_Розрахунки!W14>Y14,ПМД_Розрахунки!Z14,0) -> 0
C15: =ПМД_Вхідні_дані!B19 -> Кількість підписаних декларацій з лікарями ПМД (од.) | D15: =ПМД_Вхідні_дані!C19 -> 0 | L15: =ПМД_Вхідні_дані!B29 -> Виробничі витрати (грн) | M15: =ПМД_Вхідні_дані!C29 -> 0 | U15: =ПМД_Вхідні_дані!B42 -> Сума загальних витрат закладу (грн) | V15: =ПМД_Вхідні_дані!C42 -> 0
B16: Питома вага доходів за Програмою медичних гарантій (всі пакети) у загальних доходах закладу (%) | C16: =ПМД_Вхідні_дані!B14 -> Загальні доходи закладу (грн) | D16: =ПМД_Вхідні_дані!C14 -> 0 | E16: =IFERROR((D17+D18)/D16,0) -> 0 | F16: =ПМД_Цільові_значення!D8 -> > | G16: =ПМД_Цільові_значення!E8 -> 0.65 | H16: 0.05 | I16: =IF(ПМД_Розрахунки!E16>G16,ПМД_Розрахунки!H16,0) -> 0 | K16: Кількість середньомісячних запасів лікарських засобів та виробів медичного призначення на складі на кінець періоду (міс.) | L16: =ПМД_Вхідні_дані!B30 -> Запаси лікарських засобів та виробів медичного призначення на кінець періоду (грн) | M16: =ПМД_Вхідні_дані!C30 -> 0 | N16: =IFERROR(M16/(M17/M18),0) -> 0 | O16: =ПМД_Цільові_значення!I8 -> >= | P16: =ПМД_Цільові_значення!J8 -> 3 | Q16: 0.025 | R16: =IF(AND(OR(N16>P16,N16=P16),OR(ПМД_Розрахунки!N16<P17,ПМД_Розрахунки!N16=P17)),ПМД_Розрахунки!Q16,0) -> 0 | T16: Ступінь зносу основних засобів (%) | U16: =ПМД_Вхідні_дані!B43 -> Сума зносу основних засобів (грн) | V16: =ПМД_Вхідні_дані!C43 -> 0 | W16: =IFERROR(V16/V17,0) -> 0 | X16: =ПМД_Цільові_значення!N8 -> < | Y16: =ПМД_Цільові_значення!O8 -> 0.3 | Z16: 0.025 | AA16: =IF(W16>0,IF(ПМД_Розрахунки!W16<ПМД_Цільові_значення!O8,ПМД_Розрахунки!Z16,0),0) -> 0
C17: =ПМД_Вхідні_дані!B15 -> Дохід пакетом Програми медичних гарантій "Первинна медична допомога" (грн) | D17: =ПМД_Вхідні_дані!C15 -> 0 | L17: =ПМД_Вхідні_дані!B31 -> Обсяг споживання лікарських засобів та виробів медичного призначення (використання ТМЦ) (грн) | M17: =ПМД_Вхідні_дані!C31 -> 0 | O17: =ПМД_Цільові_значення!I9 -> <= | P17: =ПМД_Цільові_значення!J9 -> 6 | U17: =ПМД_Вхідні_дані!B44 -> Первісна вартість основних засобів (грн) | V17: =ПМД_Вхідні_дані!C44 -> 0
C18: =ПМД_Вхідні_дані!B16 -> Дохід за іншими пакетами Програми медичних гарантій (грн) | D18: =ПМД_Вхідні_дані!C16 -> 0 | L18: Кількість місяців, за який провводиться аналіз (міс.) | M18: =ПМД_Вхідні_дані!C32 -> 0
B19: Співвідношення короткострокової дебіторської та кредиторської заборгованості (коефіцієнт) | C19: =ПМД_Вхідні_дані!B23 -> Поточна кредиторська заборгованість за товари, роботи і послуги (грн) | D19: =ПМД_Вхідні_дані!C23 -> 0 | E19: =IFERROR(D19/D20,0) -> 0 | F19: =ПМД_Цільові_значення!D10 -> = | G19: =ПМД_Цільові_значення!E10 -> 1 | H19: 0.05 | I19: =IF(ПМД_Розрахунки!E19=G19,ПМД_Розрахунки!H19,0) -> 0 | K19: Питома вага капітальних інвестицій у загальних витратах закладу (%) | L19: =ПМД_Вхідні_дані!B33 -> Сума загальних витрат закладу (грн) | M19: =ПМД_Вхідні_дані!C33 -> 0 | N19: =IFERROR(M20/M19,0) -> 0 | O19: =ПМД_Цільові_значення!I10 -> > | P19: =ПМД_Цільові_значення!J10 -> 0.05 | Q19: 0.025 | R19: =IF(ПМД_Розрахунки!N19>P19,ПМД_Розрахунки!Q19,0) -> 0 | T19: Коефіцієнт абсолютної ліквідності (коефіцієнт) | U19: =ПМД_Вхідні_дані!B45 -> Поточні фінансові інвестиції (грн) | V19: =ПМД_Вхідні_дані!C45 -> 0 | W19: =IFERROR((V19+V20)/V21,0) -> 0 | X19: =ПМД_Цільові_значення!N10 -> >= | Y19: =ПМД_Цільові_значення!O10 -> 0.2 | Z19: 0.025 | AA19: =IF(AND(OR(ПМД_Розрахунки!W19>Y19,ПМД_Розрахунки!W19=Y19),OR(ПМД_Розрахунки!W19<Y20,ПМД_Розрахунки!W19=Y20)),ПМД_Розрахунки!Z19,0) -> 0
C20: =ПМД_Вхідні_дані!B24 -> Дебіторська заборгованість за продукцію, товари, роботи, послуги (грн) | D20: =ПМД_Вхідні_дані!C24 -> 0 | L20: =ПМД_Вхідні_дані!B34 -> Капітальні інвестиції (грн) | M20: =ПМД_Вхідні_дані!C34 -> 0 | U20: =ПМД_Вхідні_дані!B46 -> Гроші та їх еквіваленти (грн) | V20: =ПМД_Вхідні_дані!C46 -> 0 | X20: =ПМД_Цільові_значення!N11 -> <= | Y20: =ПМД_Цільові_значення!O11 -> 0.25
U21: =ПМД_Вхідні_дані!B47 -> Поточні зобов’язання і забезпечення (грн) | V21: =ПМД_Вхідні_дані!C47 -> 0
B22: Питома вага доходів від надання послуг за кошти фізичних і юридичних осіб у загальних доходах закладу (%) | C22: =ПМД_Вхідні_дані!B14 -> Загальні доходи закладу (грн) | D22: =ПМД_Вхідні_дані!C14 -> 0 | E22: =IFERROR(D23/D22,0) -> 0 | F22: =ПМД_Цільові_значення!D12 -> > | G22: =ПМД_Цільові_значення!E12 -> 0.05 | H22: 0.05 | I22: =IF(ПМД_Розрахунки!E22>G22,ПМД_Розрахунки!H22,0) -> 0 | K22: Коефіцієнт трудоємності (коефіцієнт) | L22: =ПМД_Вхідні_дані!B35 -> Загальні доходи закладу (грн) | M22: =ПМД_Вхідні_дані!C35 -> 0 | N22: =IFERROR((M23+M24)/M22,0) -> 0 | O22: =ПМД_Цільові_значення!I12 -> < | P22: =ПМД_Цільові_значення!J12 -> 1 | Q22: 0.025 | R22: =IF(AND(ПМД_Розрахунки!N22<P22,N22>0),ПМД_Розрахунки!Q22,0) -> 0 | T22: Дохідність основних засобів (%) | U22: =ПМД_Вхідні_дані!B41 -> Загальні доходи закладу (грн) | V22: =ПМД_Вхідні_дані!C41 -> 0 | W22: =IFERROR(V23/V22,0) -> 0 | X22: =ПМД_Цільові_значення!N12 -> > | Y22: =ПМД_Цільові_значення!O12 -> 1 | Z22: 0.025 | AA22: =IF(W22>Y22,ПМД_Розрахунки!Z22,0) -> 0
C23: =ПМД_Вхідні_дані!B17 -> Дохід від надання послуг за кошти фізичних і юридичних осіб (грн) | D23: =ПМД_Вхідні_дані!C17 -> 0 | L23: =ПМД_Вхідні_дані!B36 -> Витрати на оплату праці (грн) | M23: =ПМД_Вхідні_дані!C36 -> 0 | U23: =ПМД_Вхідні_дані!B48 -> Залишкова вартість основних засобів (грн) | V23: =ПМД_Вхідні_дані!C48 -> 0
L24: =ПМД_Вхідні_дані!B37 -> Відрахування на соціальні заходи (грн) | M24: =ПМД_Вхідні_дані!C37 -> 0
B26: Персонал | C26: Вхідні дані для обрахунку | E26: Розрахунковий показник закладу | F26: Цільове значення показника | H26: Вагове цільове значення | I26: Результат для фін.стійкості | K26: Оплата праці | L26: Вхідні дані для обрахунку | N26: Розрахунковий показник закладу | O26: Цільове значення показника | Q26: Вагове цільове значення | R26: Результат для фін.стійкості | T26: Пацієнти | U26: Вхідні дані для обрахунку | W26: Розрахунковий показник закладу | X26: Цільове значення показника | Z26: Вагове цільове значення | AA26: Результат для фін.стійкості
H27: =SUM(H28:H36) -> 0.2 | I27: =IFERROR(SUM(I28:I37),"-") -> 0 | Q27: =SUM(Q28:Q36) -> 0.2 | R27: =IFERROR(SUM(R28:R37),"-") -> 0 | Z27: =SUM(Z28:Z36) -> 0.2 | AA27: =IFERROR(SUM(AA28:AA37),"-")+IF(ISBLANK(ПМД_Вхідні_дані!C64),0,IF(ПМД_Вхідні_дані!C64=0,ПМД_Розрахунки!Z32,0)) -> 0
B28: Постійність кадрів (%) | C28: =ПМД_Вхідні_дані!B52 -> Загальна штатна чисельність персоналу закладу (ос.) | D28: =ПМД_Вхідні_дані!C52 -> 0 | E28: =IFERROR(D29/D28,0) -> 0 | F28: =ПМД_Цільові_значення!D16 -> > | G28: =ПМД_Цільові_значення!E16 -> 0.9 | H28: 0.05 | I28: =IF(ПМД_Розрахунки!E28>=G28,ПМД_Розрахунки!H28,0) -> 0 | K28: Середнє співвідношення середньомісячної заробітної плати лікарів закладу із встановленим мінімальним розміром оплати праці (%) | L28: Середньомісячна заробітна плата лікарів ПМД (грн) | M28: =ПМД_Вхідні_дані!C73 -> 0 | N28: =M28/M29 -> 0 | O28: =ПМД_Цільові_значення!I16 -> > | P28: =ПМД_Цільові_значення!J16 -> 1 | Q28: 0.05 | R28: =IF(ПМД_Розрахунки!N28>P28,ПМД_Розрахунки!Q28,0) -> 0 | T28: Середня кількість задекларованих пацієнтів у розрахунку на одного лікаря загальної практики-сімейного лікаря (декларацій на 1 лікаря) | U28: Кількість підписаних декларацій у лікарів загальної практики-сімейних лікарів (од.) | V28: =ПМД_Вхідні_дані!C88 -> 0 | W28: =IFERROR(V28/V29,0) -> 0 | X28: =ПМД_Цільові_значення!N16 -> < | Y28: =ПМД_Цільові_значення!O16 -> 1801 | Z28: 0.05 | AA28: =IF(AND(ПМД_Вхідні_дані!C19>0,W28>0,ПМД_Розрахунки!W28<Y28),ПМД_Розрахунки!Z28,0) -> 0
C29: =ПМД_Вхідні_дані!B59 -> Чисельність персоналу, що працює більше 1 року (ос.) | D29: =ПМД_Вхідні_дані!C59 -> 0 | L29: =ПМД_Вхідні_дані!B82 -> Мінімальний розмір оплати праці для осіб, які займають лікарські посади, за виконану у повному обсязі місячну (годинну) норму праці (грн) | M29: =ПМД_Вхідні_дані!C82 -> 20000 | U29: Кількість лікарів загальної практики-сімейних лікарів (ос.) | V29: =ПМД_Вхідні_дані!C92 -> 0
B30: Плинність кадрів (%) | C30: =ПМД_Вхідні_дані!B52 -> Загальна штатна чисельність персоналу закладу (ос.) | D30: =ПМД_Вхідні_дані!C52 -> 0 | E30: =IFERROR(D31/D30,0) -> 0 | F30: =ПМД_Цільові_значення!D17 -> < | G30: =ПМД_Цільові_значення!E17 -> 0.65 | H30: 0.05 | I30: =IF(AND(ПМД_Вхідні_дані!C60>0,E30>0),IF(ПМД_Розрахунки!E30<G30,ПМД_Розрахунки!H30,0),0) -> 0 | K30: Середнє співвідношення середньомісячної заробітної плати середнього медичного персоналу закладу із встановленим мінімальним розміром оплати праці (%) | L30: Середньомісячна заробітна плата середнього медичного персоналу (грн) | M30: =ПМД_Вхідні_дані!C74 -> 0 | N30: =M30/M31 -> 0 | O30: =ПМД_Цільові_значення!I17 -> > | P30: =ПМД_Цільові_значення!J17 -> 1 | Q30: 0.05 | R30: =IF(ПМД_Розрахунки!N30>P30,ПМД_Розрахунки!Q30,0) -> 0 | T30: Середня кількість задекларованих пацієнтів у розрахунку на одного лікаря-терапевта (декларацій на 1 лікаря) | U30: Кількість підписаних декларацій у лікарів-терапевтів (од.) | V30: =ПМД_Вхідні_дані!C89 -> 0 | W30: =IFERROR(V30/V31,0) -> 0 | X30: =ПМД_Цільові_значення!N17 -> < | Y30: =ПМД_Цільові_значення!O17 -> 2001 | Z30: 0.05 | AA30: =IF(AND(ПМД_Вхідні_дані!C20>0,W30>0,ПМД_Розрахунки!W30<Y30),ПМД_Розрахунки!Z30,0) -> 0
C31: =ПМД_Вхідні_дані!B60 -> Чисельність персоналу, звільненого за власним бажанням (ос.) | D31: =ПМД_Вхідні_дані!C60 -> 0 | L31: =ПМД_Вхідні_дані!B83 -> Мінімальний розмір оплати праці для осіб, які займають посади у закладах охорони здоров’я, віднесені єдиними кваліфікаційними вимогами до посад фахівців, за виконану у повному обсязі місячну (годинну) норму праці (грн) | M31: =ПМД_Вхідні_дані!C83 -> 13500 | U31: Кількість лікарів-терапевтів (ос.) | V31: =ПМД_Вхідні_дані!C93 -> 0
B32: Коефіцієнт перекваліфікації (підвищення кваліфікації) персоналу (%) | C32: Кількість лікарів ПМД (ос.) | D32: =ПМД_Вхідні_дані!C61 -> 0 | E32: =IFERROR(D34/D32,0) -> 0 | F32: =ПМД_Цільові_значення!D18 -> = | G32: =ПМД_Цільові_значення!E18 -> 1 | H32: 0.05 | I32: =IF(ПМД_Розрахунки!E32=G32,ПМД_Розрахунки!H32,0) -> 0 | K32: Кількість середньомісячних фондів оплати праці забезпечених залишками грошових коштів (од.) | L32: =ПМД_Вхідні_дані!B78 -> Гроші та їх еквіваленти (грн) | M32: =ПМД_Вхідні_дані!C78 -> 0 | N32: =IFERROR(M32/((M33+M34)/M35),0) -> 0 | O32: =ПМД_Цільові_значення!I18 -> >= | P32: =ПМД_Цільові_значення!J18 -> 2 | Q32: 0.05 | R32: =IF(AND(OR(N32>P32,ПМД_Розрахунки!N32=P32),OR(ПМД_Розрахунки!N32<P34,ПМД_Розрахунки!N32=P34)),ПМД_Розрахунки!Q32,0) -> 0 | T32: Середня кількість задекларованих пацієнтів у розрахунку на одного лікаря-педіатра (декларацій на 1 лікаря) | U32: Кількість підписаних декларацій у лікарів-педіатрів (од.) | V32: =ПМД_Вхідні_дані!C90 -> 0 | W32: =IFERROR(V32/V34,0) -> 0 | X32: =ПМД_Цільові_значення!N18 -> < | Y32: =ПМД_Цільові_значення!O18 -> 901 | Z32: 0.05 | AA32: =IF(AND(W32>0,ПМД_Вхідні_дані!C21>0,ПМД_Розрахунки!W32<Y32),ПМД_Розрахунки!Z32,0) -> 0
L33: =ПМД_Вхідні_дані!B79 -> Витрати на оплату праці (грн) | M33: =ПМД_Вхідні_дані!C79 -> 0
C34: =ПМД_Вхідні_дані!B65 -> Кількість лікарів ПМД, які отримали щонайменше 50 балів БПР (за рік) (ос.) | D34: =ПМД_Вхідні_дані!C65 -> 0 | L34: =ПМД_Вхідні_дані!B80 -> Відрахування на соціальні заходи (грн) | M34: =ПМД_Вхідні_дані!C80 -> 0 | O34: =ПМД_Цільові_значення!I19 -> <= | P34: =ПМД_Цільові_значення!J19 -> 3 | U34: Кількість лікарів-педіатрів (ос.) | V34: =ПМД_Вхідні_дані!C94 -> 0
L35: Кількість місяців, за який провводиться аналіз (міс.) | M35: =ПМД_Вхідні_дані!C81 -> 0
B36: Кількість середнього медичного персоналу у розрахунку на 1 лікаря ПМД | C36: Кількість лікарів ПМД (ос.) | D36: =ПМД_Вхідні_дані!C61 -> 0 | E36: =IFERROR(D37/D36,0) -> 0 | F36: =ПМД_Цільові_значення!D20 -> = | G36: =ПМД_Цільові_значення!E20 -> 2 | H36: 0.05 | I36: =IF(ПМД_Розрахунки!E36=G36,ПМД_Розрахунки!H36,0) -> 0 | K36: Співвідношення середньої заробітної плати працівників закладу до середньомісячної заробітної плати по регіону (%) | L36: Середньомісячна заробітна плата по закладу (грн) | M36: =ПМД_Вхідні_дані!C70 -> 0 | N36: =IFERROR(M36/M37,0) -> 0 | O36: =ПМД_Цільові_значення!I20 -> > | P36: =ПМД_Цільові_значення!J20 -> 1.5 | Q36: 0.05 | R36: =IF(ПМД_Розрахунки!N36>P36,ПМД_Розрахунки!Q36,0) -> 0 | T36: Скарги пацієнтів на неформальні платежі (%) | U36: =ПМД_Вхідні_дані!B95 -> Частка скарг пацієнтів з виявленими порушеннями (%) | V36: =ПМД_Вхідні_дані!C95 -> 0 | W36: =V36 -> 0 | X36: =ПМД_Цільові_значення!N20 -> = | Y36: =ПМД_Цільові_значення!O20 -> 0 | Z36: 0.05 | AA36: =IF(ISBLANK(ПМД_Вхідні_дані!C95),0,IF(ПМД_Розрахунки!W36>Y36,0,ПМД_Розрахунки!Z36)) -> 0
C37: Кількість середнього медичного персоналу (ос.) | D37: =ПМД_Вхідні_дані!C56 -> 0 | L37: =ПМД_Вхідні_дані!B77 -> Середньомісячна заробітна плата працівників ПМД по регіону (грн) | M37: =ПМД_Вхідні_дані!C77 -> 0

Sheet СМД_Вхідні_дані
B1: Fin_Stab 1.0: Базовий електронний інструмент з оцінки фінансової стійкості закладів охорони здоров'я
B3: Вхідні дані надавача СМД
B5: Назва закладу:
B6: Дата проведення обрахунку: (число.місяць.рік)
B7: Область: (обрати зі списку)
B8: Вид території на період воєнного стану: (обрати зі списку)
B9: Звітний період: (обрати зі списку)
B10: Період року, за який проводиться аналіз: (обрати зі списку)
B11: Кількість місяців, за який проводиться аналіз: (заповнюється автоматично) | C11: =IFERROR(LOOKUP(C10,tech!B1:B3,tech!C1:C3),0) -> 0
B13: Вхідні дані для обрахунків у блоці "Доходи"
B14: Назва показника | C14: Значення показника за звітний період | D14: Джерело інформації
B15: Загальні доходи закладу (грн) | C15: =SUM(C16:C19) -> 0 | D15: Звітність закладу 1нс, таблиця 4
B16: Дохід за всіма пакетами Програми медичних гарантій (грн) | D16: Звітність закладу 1нс, додаток "Доходи ПМГ"
B17: Надходження від місцевих бюджетів (грн) | D17: Звітність закладу
B18: Дохід від надання послуг за кошти фізичних і юридичних осіб (грн) | D18: Звітність закладу 1нс, таблиця 4
B19: Інші доходи (грн) | D19: Звітність закладу 1нс, таблиця 4
B20: Поточна кредиторська заборгованість за товари, роботи і послуги (грн) | D20: Звітність закладу 1нс, звіт 9
B21: Дебіторська заборгованість за продукцію, товари, роботи, послуги (грн) | D21: Звітність закладу 1нс, звіт 9
B23: Вхідні дані для обрахунків у блоці "Витрати"
B24: Назва показника | C24: Значення показника за звітний період | D24: Джерело інформації
B25: Дохід від реалізації товарів робіт і послуг (грн) | D25: Звітність закладу 1нс, таблиця 4
B26: Виробничі витрати (грн) | D26: Звітність закладу 1нс, таблиця 5.1
B27: Запаси лікарських засобів та виробів медичного призначення на кінець періоду (грн) | D27: Звітність закладу
B28: Обсяг споживання лікарських засобів та виробів медичного призначення (використання ТМЦ) (грн) | D28: Звітність закладу
B29: Кількість місяців, за який проводиться аналіз (міс.) | C29: =C11 -> 0 | D29: х
B30: Сума загальних витрат закладу (грн) | D30: Звітність закладу 1нс, таблиця 6
B31: Капітальні інвестиції (грн) | D31: Звітність закладу 1нс, таблиця 3
B32: =B15 -> Загальні доходи закладу (грн) | C32: =C15 -> 0 | D32: =D15 -> Звітність закладу 1нс, таблиця 4
B33: Витрати на оплату праці (грн) | D33: Звітність закладу 1нс, таблиця 6
B34: Відрахування на соціальні заходи (грн) | D34: Звітність закладу
B36: Вхідні дані для обрахунків у блоці "Результативність"
B37: Назва показника | C37: Значення показника за звітний період | D37: Джерело інформації
B38: =B15 -> Загальні доходи закладу (грн) | C38: =C15 -> 0 | D38: =D15 -> Звітність закладу 1нс, таблиця 4
B39: =B30 -> Сума загальних витрат закладу (грн) | C39: =C30 -> 0 | D39: =D30 -> Звітність закладу 1нс, таблиця 6
B40: Сума зносу основних засобів (грн) | D40: Звітність закладу 1нс, звіт 9
B41: Первісна вартість основних засобів (грн) | D41: Звітність закладу 1нс, звіт 9
B42: Поточні фінансові інвестиції (грн) | D42: Звітність закладу 1нс, звіт 9
B43: Гроші та їх еквіваленти (грн) | D43: Звітність закладу 1нс, звіт 9
B44: Поточні зобов’язання і забезпечення (грн) | D44: Звітність закладу 1нс, звіт 9
B45: Залишкова вартість основних засобів (грн) | D45: Звітність закладу 1нс, звіт 9
...

Sheet CМД_Цільові_значення
B1: Fin_Stab 1.0: Базовий електронний інструмент з оцінки фінансової стійкості закладів охорони здоров'я
B3: Цільові значення показників фінансової стійкості надавача CМД
B5: Доходи | C5: Дефініція | D5: Цільові значення | G5: Витрати | H5: Дефініція | I5: Цільові значення | L5: Результативність | M5: Дефініція | N5: Цільові значення
B7: Питома вага доходів за Програмою медичних гарантій (всі пакети) у загальних доходах закладу (%) | C7: Показник характеризує частку фінансування в рамках Програми медичних гарантій у загальному доході закладу. Оптимальний показник - оптимальна частка з урахуванням інших джерел доходів закладу. | D7: > | E7: 0.65 | G7: Коефіцієнт окупності виробничих витрат (коефіцієнт) | H7: Показник характеризує частку виробничих витрат у 1 гривні отриманого доходу підприємства. Оптимальне значення показує, що заклад за рахунок одержаної грошової виручки повністю відшкодувало витрати і додатково одержало на кожну гривню витрат по 0,9 грн прибутку). | I7: < | J7: 0.9 | L7: Фінансовий результат закладу (грн) | M7: Показник показує різницю між доходами та витратами закладу у звітному періоді і характеризує всі сторони фінансово-господарської діяльності підприємства. Оптимальне значення - це перевищення доходів над витратами у звітному періоді. | N7: > | O7: 0
B8: Питома вага доходів від надання послуг за кошти фізичних і юридичних осіб у загальних доходах закладу (%) | C8: Показник характеризує частку доходів від надання послуг за кошти фізичних і юридичних осіб ("платні послуги") у загальному доході закладу. Оптимальний показник - це значення з урахуванням інших джерел доходів закладу. | D8: > | E8: 0.05 | G8: Кількість середньомісячних запасів лікарських засобів та виробів медичного призначення на складі на кінець періоду (міс.) | H8: Показник характеризує ступінь забезпеченості лікарськими засобами та виробами медичного призначення, які можуть покрити потреби закладу на певний період. Значення показника в оптимальних межах свідчить про забезпечення безперебійності надання медичної допомоги. Значення даного показника доцільно порівнювати з іншими розрахунковими показниками для того, щоб пересвідчитись чи не накопичує підприємство запаси в той час як є незабезпеченість коштами на виплату заробітної плати, або значно зросла кредиторська заборгованість, тощо. | I8: >= | J8: 3 | L8: Ступінь зносу основних засобів (%) | M8: Показник характеризує ступінь зносу та відшкодування витрат на формування основних засобів. Основні засоби мають бути у відповідному технічному стані для забезпечення нормальних умов процесу діяльності та підвищення його ефективності. | N8: < | O8: 0.3
I9: <= | J9: 6
B10: Співвідношення короткострокової дебіторської та кредиторської заборгованості (коефіцієнт) | C10: Показник характеризує якість фінансової політики закладу. Показник враховує вплив кредиторської та дебіторської заборгованості на ліквідність і платоспроможність. Збалансованість грошових потоків у процесі розрахунків з постачальниками позитивно впливає на фінансовий стан закладу. Оптимальним значенням показника є значення, яке приблизно дорівнює одиниці. | D10: = | E10: 1 | G10: Питома вага капітальних інвестицій у загальних витратах закладу (%) | H10: Капітальні інвестиції є важливим фактором розширеного відтворення основних засобів та інших необоротних активів підприємства. Для стабільного функціонування закладу капітальні інвестиції мають здійснюватися на регулярній основі. | I10: > | J10: 0.05 | L10: Коефіцієнт абсолютної ліквідності (коефіцієнт) | M10: Показник характеризує ту частину короткотермінових фінансових зобов'язань підприємства, яка може бути сплачена за рахунок ліквідних активів (грошових коштів та їх еквівалентів), тобто спроможність підприємства негайно погасити свою короткотермінову кредиторську заборгованість. | N10: >= | O10: 0.2
N11: <= | O11: 0.25
B12: Питома вага надходжень від місцевих бюджетів (%) | C12: Показник характеризує частку надходжень від місцевих бюджетів у загальному доході закладу. Оптимальний показник - це значення з урахуванням інших джерел доходів закладу. | D12: < | E12: 0.1 | G12: Коефіцієнт трудоємності (коефіцієнт) | H12: Показник характеризує яка частка витрат на оплату праці в 1 гривні загального доходу закладу. | I12: < | J12: 1 | L12: Дохідність основних засобів (%) | M12: Показник характеризує ефективність використання активів підприємства для генерації доходу. | N12: > | O12: 1
B14: Персонал | C14: Дефініція | D14: Цільові значення | G14: Оплата праці | H14: Дефініція | I14: Цільові значення | L14: Пацієнти | M14: Дефініція | N14: Цільові значення
B16: Постійність кадрів (%) | C16: Показник характеризує сталість колективу закладу, який працює більше 1 року, адже у такому випадку скоріше за все цей персонал і надалі працюватиме у закладі. | D16: > | E16: 0.9 | G16: Середнє співвідношення середньомісячної заробітної плати лікарів закладу із встановленим мінімальним розміром оплати праці (%) | H16: Показник порівнює показники закладу з нормами постанови КМУ №28 "Деякі питання оплати праці працівників державних та комунальних закладів охорони здоров’я" (залежно від виду території за умов воєнного стану): - території активних бойових дій - 28 000 грн; - території можливих бойових дій - 23 000 грн. | I16: > | J16: 1 | L16: Зайнятість ліжка (%) | M16: Показник характеризує ефективність використання ліжкового фонду, оцінювання доступності, якості та ефективності діагностичної та лікувальної роботи. | N16: > | O16: 0.8
B17: Плинність кадрів (%) | C17: Показник характеризує рух персоналу у закладі, який обумовлений незадоволеністю працівників якими-небудь елементами виробничої ситуації або незадоволеністю адміністрації виробничою поведінкою працівника. | D17: < | E17: 0.65 | G17: Середнє співвідношення середньомісячної заробітної плати середнього медичного персоналу закладу із встановленим мінімальним розміром оплати праці (%) | H17: Показник порівнює показники закладу з нормами постанови КМУ №28 "Деякі питання оплати праці працівників державних та комунальних закладів охорони здоров’я" (залежно від виду території за умов воєнного стану): - території активних бойових дій - 18 000 грн; - території можливих бойових дій - 15 500 грн. | I17: > | J17: 1 | L17: Коефіцієнт повторної госпіталізації (%) | M17: Показник характеризує пов'язаність кількості пацієнтів із якістю медичної допомоги, що надається. Водночас, якщо у деяких випадках повторна госпіталізація є частиною лікувального плану і тому є бажаною, то в інших випадках вона свідчить про недостатньо якісне лікування внаслідок скорочення термінів перебування пацієнта у стаціонарі та дострокової виписки. | N17: < | O17: 0.2
B18: Коефіцієнт перекваліфікації (підвищення кваліфікації) персоналу (%) | C18: Показник характеризує якісне зростання персоналу та використання можливостей щодо вдосконалення знань, умінь та навиків за спеціальністю, оволодіння функціональними обов'язками, які впливатимуть на підвищення продуктивності праці та загальної ефективності роботи всього закладу. | D18: = | E18: 1 | G18: Середнє співвідношення середньомісячної заробітної плати молодшого медичного персоналу закладу із встановленим мінімальним розміром оплати праці (%) | H18: Показник порівнює розрахункові значення закладу з нормами постанови КМУ №28 "Деякі питання оплати праці працівників державних та комунальних закладів охорони здоров’я" (залежно від виду території за умов воєнного стану): - території активних бойових дій - 9 000 грн; - території можливих бойових дій - 8 000 грн. | I18: > | J18: 1 | L18: Рівень післяопераційної летальності (%) | M18: Показник характеризує клінічну ефективність роботи та моніторинг стану пацієнта після проведених операційних втручань. | N18: < | O18: 0.05
G19: Кількість середньомісячних фондів оплати праці забезпечених залишками грошових коштів (од.) | H19: Показник характеризує забезпеченість підприємства коштами на забезпечення витрат на оплату праці на певну кількість місяців. Значення даного показника доцільно порівнювати з іншими розрахунковими показниками (кредиторська заборгованість за товари, роботи і послуги, інші зобов'язання, тощо) для того, щоб пересвідчитись чи дійсно залишок коштів може покрити витрати на оплату праці на відповідну кількість місяців. | I19: >= | J19: 2
B20: Кадровий потенціал (%) | C20: Показник характеризує результативність роботи як безпосередньо персоналу, так і управлінську спроможність реалізувати даний кадровий потенціал. | D20: > | E20: 0.5 | I20: <= | J20: 3 | L20: Скарги пацієнтів на неформальні платежі (%) | M20: Показник відображає виконання закладом обов’язків за договором про медичне обслуговування населення на користь пацієнтів (забезпечувати реалізацію пацієнтами їхніх прав на отримання медичних послуг; забезпечувати захист персональних даних пацієнтів; використовувати для надання медичних послуг лікарські засоби та медичні вироби, що дозволені до застосування в Україні та ін.). | N20: = | O20: 0

Sheet CМД_Розрахунки
B1: Fin_Stab 1.0: Базовий електронний інструмент з оцінки фінансової стійкості закладів охорони здоров'я
B3: Показники фінансової стійкості надавача CМД
B5: =СМД_Вхідні_дані!B5 -> Назва закладу: | C5: =СМД_Вхідні_дані!C5 -> 0
B6: Дата проведення обрахунку: | C6: =IF(СМД_Вхідні_дані!C6>0,СМД_Вхідні_дані!C6,IF(СМД_Вхідні_дані!C6<0,"-",IF(СМД_Вхідні_дані!C6=0,"-","-"))) -> -
B7: Розрахункова оцінка фінансової стійкості закладу | C7: =I13+R13+AA13+I27+R27+AA27 -> 0
C8: =IF(C7>0,IF(OR(AND(CМД_Розрахунки!C7>tech!C7,CМД_Розрахунки!C7<tech!D7),CМД_Розрахунки!C7=tech!C7,CМД_Розрахунки!C7=tech!D7),tech!B7,IF(OR(AND(CМД_Розрахунки!C7>tech!C6,CМД_Розрахунки!C7<tech!D6),CМД_Розрахунки!C7=tech!C6,CМД_Розрахунки!C7=tech!D6),tech!B6,IF(OR(CМД_Розрахунки!C7>tech!C5,CМД_Розрахунки!C7=tech!C5),tech!B5,IF(OR(CМД_Розрахунки!C7<tech!C8,C7=tech!C8),tech!B8)))),"-") -> -
B12: Доходи | C12: Вхідні дані для обрахунку | E12: Розрахунковий показник закладу | F12: Цільове значення показника | H12: Вагове цільове значення | I12: Результативні значення | K12: Витрати | L12: Вхідні дані для обрахунку | N12: Розрахунковий показник закладу | O12: Цільове значення показника | Q12: Вагове цільове значення | R12: Результативні значення | T12: Результативність | U12: Вхідні дані для обрахунку | W12: Розрахунковий показник закладу | X12: Цільове значення показника | Z12: Вагове цільове значення | AA12: Результативні значення
H13: =SUM(H14:H22) -> 0.2 | I13: =IFERROR(SUM(I14:I22),"-") -> 0 | Q13: =SUM(Q14:Q22) -> 0.1 | R13: =IFERROR(SUM(R14:R22),"-") -> 0 | Z13: =SUM(Z14:Z22) -> 0.1 | AA13: =IFERROR(SUM(AA14:AA22),"-") -> 0
B14: Питома вага доходів за Програмою медичних гарантій (всі пакети) у загальних доходах закладу (%) | C14: =СМД_Вхідні_дані!B15 -> Загальні доходи закладу (грн) | D14: =СМД_Вхідні_дані!C15 -> 0 | E14: =IFERROR(D15/D14,0) -> 0 | F14: =CМД_Цільові_значення!D7 -> > | G14: =CМД_Цільові_значення!E7 -> 0.65 | H14: 0.05 | I14: =IF(E14>G14,CМД_Розрахунки!H14,0) -> 0 | K14: Коефіцієнт окупності виробничих витрат (коефіцієнт) | L14: =СМД_Вхідні_дані!B25 -> Дохід від реалізації товарів робіт і послуг (грн) | M14: =СМД_Вхідні_дані!C25 -> 0 | N14: =IFERROR(M15/M14,0) -> 0 | O14: =CМД_Цільові_значення!I7 -> < | P14: =CМД_Цільові_значення!J7 -> 0.9 | Q14: 0.025 | R14: =IF(AND(N14>0,N14<=P14),CМД_Розрахунки!Q14,0) -> 0 | T14: Фінансовий результат закладу (грн) | U14: =СМД_Вхідні_дані!B38 -> Загальні доходи закладу (грн) | V14: =СМД_Вхідні_дані!C38 -> 0 | W14: =IFERROR(V14-V15,0) -> 0 | X14: =CМД_Цільові_значення!N7 -> > | Y14: =CМД_Цільові_значення!O7 -> 0 | Z14: 0.025 | AA14: =IF(W14>Y14,CМД_Розрахунки!Z14,0) -> 0
C15: =СМД_Вхідні_дані!B16 -> Дохід за всіма пакетами Програми медичних гарантій (грн) | D15: =СМД_Вхідні_дані!C16 -> 0 | L15: =СМД_Вхідні_дані!B26 -> Виробничі витрати (грн) | M15: =СМД_Вхідні_дані!C26 -> 0 | U15: =СМД_Вхідні_дані!B39 -> Сума загальних витрат закладу (грн) | V15: =СМД_Вхідні_дані!C39 -> 0
B16: Питома вага доходів від надання послуг за кошти фізичних і юридичних осіб у загальних доходах закладу (%) | C16: =СМД_Вхідні_дані!B15 -> Загальні доходи закладу (грн) | D16: =СМД_Вхідні_дані!C15 -> 0 | E16: =IFERROR(D17/D16,0) -> 0 | F16: =CМД_Цільові_значення!D8 -> > | G16: =CМД_Цільові_значення!E8 -> 0.05 | H16: 0.05 | I16: =IF(E16>CМД_Цільові_значення!E8,CМД_Розрахунки!H16,0) -> 0 | K16: Кількість середньомісячних запасів лікарських засобів та виробів медичного призначення на складі на кінець періоду (міс.) | L16: =СМД_Вхідні_дані!B27 -> Запаси лікарських засобів та виробів медичного призначення на кінець періоду (грн) | M16: =СМД_Вхідні_дані!C27 -> 0 | N16: =IFERROR(M16/(M17/M18),0) -> 0 | O16: =CМД_Цільові_значення!I8 -> >= | P16: =CМД_Цільові_значення!J8 -> 3 | Q16: 0.025 | R16: =IF(AND(OR(N16>P16,N16=P16),OR(CМД_Розрахунки!N16<P17,CМД_Розрахунки!N16=P17)),Q16,0) -> 0 | T16: Ступінь зносу основних засобів (%) | U16: =СМД_Вхідні_дані!B40 -> Сума зносу основних засобів (грн) | V16: =СМД_Вхідні_дані!C40 -> 0 | W16: =IFERROR(V16/V17,0) -> 0 | X16: =CМД_Цільові_значення!N8 -> < | Y16: =CМД_Цільові_значення!O8 -> 0.3 | Z16: 0.025 | AA16: =IF(AND(W16>0,СМД_Вхідні_дані!C40>0,W16<Y16),CМД_Розрахунки!Z16,0) -> 0
C17: =СМД_Вхідні_дані!B18 -> Дохід від надання послуг за кошти фізичних і юридичних осіб (грн) | D17: =СМД_Вхідні_дані!C18 -> 0 | L17: =СМД_Вхідні_дані!B28 -> Обсяг споживання лікарських засобів та виробів медичного призначення (використання ТМЦ) (грн) | M17: =СМД_Вхідні_дані!C28 -> 0 | O17: =CМД_Цільові_значення!I9 -> <= | P17: =CМД_Цільові_значення!J9 -> 6 | U17: =СМД_Вхідні_дані!B41 -> Первісна вартість основних засобів (грн) | V17: =СМД_Вхідні_дані!C41 -> 0
L18: =СМД_Вхідні_дані!B29 -> Кількість місяців, за який проводиться аналіз (міс.) | M18: =СМД_Вхідні_дані!C29 -> 0
B19: Співвідношення короткострокової дебіторської та кредиторської заборгованості (коефіцієнт) | C19: =СМД_Вхідні_дані!B20 -> Поточна кредиторська заборгованість за товари, роботи і послуги (грн) | D19: =СМД_Вхідні_дані!C20 -> 0 | E19: =IFERROR(D19/D20,0) -> 0 | F19: =CМД_Цільові_значення!D10 -> = | G19: =CМД_Цільові_значення!E10 -> 1 | H19: 0.05 | I19: =IF(E19=G19,H19,0) -> 0 | K19: Питома вага капітальних інвестицій у загальних витратах закладу (%) | L19: =СМД_Вхідні_дані!B30 -> Сума загальних витрат закладу (грн) | M19: =СМД_Вхідні_дані!C30 -> 0 | N19: =IFERROR(M20/M19,0) -> 0 | O19: =CМД_Цільові_значення!I10 -> > | P19: =CМД_Цільові_значення!J10 -> 0.05 | Q19: 0.025 | R19: =IF(N19>=P19,CМД_Розрахунки!Q19,0) -> 0 | T19: Коефіцієнт абсолютної ліквідності (коефіціієнт) | U19: =СМД_Вхідні_дані!B42 -> Поточні фінансові інвестиції (грн) | V19: =СМД_Вхідні_дані!C42 -> 0 | W19: =IFERROR((V19+V20)/V21,0) -> 0 | X19: =CМД_Цільові_значення!N10 -> >= | Y19: =CМД_Цільові_значення!O10 -> 0.2 | Z19: 0.025 | AA19: =IF(AND(OR(CМД_Розрахунки!W19>Y19,CМД_Розрахунки!W19=Y19),OR(CМД_Розрахунки!W19<Y20,CМД_Розрахунки!W19=Y20)),CМД_Розрахунки!Z19,0) -> 0
C20: =СМД_Вхідні_дані!B21 -> Дебіторська заборгованість за продукцію, товари, роботи, послуги (грн) | D20: =СМД_Вхідні_дані!C21 -> 0 | L20: =СМД_Вхідні_дані!B31 -> Капітальні інвестиції (грн) | M20: =СМД_Вхідні_дані!C31 -> 0 | U20: =СМД_Вхідні_дані!B43 -> Гроші та їх еквіваленти (грн) | V20: =СМД_Вхідні_дані!C43 -> 0 | X20: =CМД_Цільові_значення!N11 -> <= | Y20: =CМД_Цільові_значення!O11 -> 0.25
U21: =СМД_Вхідні_дані!B44 -> Поточні зобов’язання і забезпечення (грн) | V21: =СМД_Вхідні_дані!C44 -> 0
B22: Питома вага надходжень від місцевих бюджетів (%) | C22: =СМД_Вхідні_дані!B15 -> Загальні доходи закладу (грн) | D22: =СМД_Вхідні_дані!C15 -> 0 | E22: =IFERROR(D23/D22,0) -> 0 | F22: =CМД_Цільові_значення!D12 -> < | G22: =CМД_Цільові_значення!E12 -> 0.1 | H22: 0.05 | I22: =IF(СМД_Вхідні_дані!C17>0,IF(E22<G22,CМД_Розрахунки!H22,0),0) -> 0 | K22: Коефіцієнт трудоємності (коефіцієнт) | L22: =СМД_Вхідні_дані!B32 -> Загальні доходи закладу (грн) | M22: =СМД_Вхідні_дані!C32 -> 0 | N22: =IFERROR((M23+M24)/M22,0) -> 0 | O22: =CМД_Цільові_значення!I12 -> < | P22: =CМД_Цільові_значення!J12 -> 1 | Q22: 0.025 | R22: =IF(AND(N22<P22,N22>0),Q22,0) -> 0 | T22: Дохідність основних засобів (%) | U22: =СМД_Вхідні_дані!B38 -> Загальні доходи закладу (грн) | V22: =СМД_Вхідні_дані!C38 -> 0 | W22: =IFERROR(V23/V22,0) -> 0 | X22: =CМД_Цільові_значення!N12 -> > | Y22: =CМД_Цільові_значення!O12 -> 1 | Z22: 0.025 | AA22: =IF(W22>=CМД_Цільові_значення!O12,CМД_Розрахунки!Z22,0) -> 0
C23: =СМД_Вхідні_дані!B17 -> Надходження від місцевих бюджетів (грн) | D23: =СМД_Вхідні_дані!C17 -> 0 | L23: =СМД_Вхідні_дані!B33 -> Витрати на оплату праці (грн) | M23: =СМД_Вхідні_дані!C33 -> 0 | U23: =СМД_Вхідні_дані!B45 -> Залишкова вартість основних засобів (грн) | V23: =СМД_Вхідні_дані!C45 -> 0
L24: =СМД_Вхідні_дані!B34 -> Відрахування на соціальні заходи (грн) | M24: =СМД_Вхідні_дані!C34 -> 0
B26: Персонал | C26: Вхідні дані для обрахунку | E26: Розрахунковий показник закладу | F26: Цільове значення показника | H26: Вагове цільове значення | I26: Результативні значення | K26: Оплата праці | L26: Вхідні дані для обрахунку | N26: Розрахунковий показник закладу | O26: Цільове значення показника | Q26: Вагове цільове значення | R26: Результативні значення | T26: Пацієнти | U26: Вхідні дані для обрахунку | W26: Розрахунковий показник закладу | X26: Цільове значення показника | Z26: Вагове цільове значення | AA26: Результативні значення
H27: =SUM(H28:H34) -> 0.2 | I27: =IFERROR(SUM(I28:I34),"-") -> 0 | Q27: =SUM(Q28:Q36) -> 0.2 | R27: =IFERROR(SUM(R28:R36),"-") -> 0 | Z27: =SUM(Z28:Z34) -> 0.2 | AA27: =IFERROR(SUM(AA28:AA34),"-") -> 0
B28: Постійність кадрів (%) | C28: =СМД_Вхідні_дані!B49 -> Загальна чисельність персоналу закладу (ос.) | D28: =СМД_Вхідні_дані!C49 -> 0 | E28: =IFERROR(D29/D28,0) -> 0 | F28: =CМД_Цільові_значення!D16 -> > | G28: =CМД_Цільові_значення!E16 -> 0.9 | H28: 0.05 | I28: =IF(AND(СМД_Вхідні_дані!C49>0,E28>0,E28>=G28),CМД_Розрахунки!H28,0) -> 0 | K28: Середнє співвідношення середньомісячної заробітної плати лікарів закладу із встановленим мінімальним розміром оплати праці (%) | L28: Середньомісячна заробітна плата лікарів (грн) | M28: =СМД_Вхідні_дані!C67 -> 0 | N28: =IFERROR(M28/M29,0) -> 0 | O28: =CМД_Цільові_значення!I16 -> > | P28: =CМД_Цільові_значення!J16 -> 1 | Q28: 0.05 | R28: =IF(N28>P28,CМД_Розрахунки!Q28,0) -> 0 | T28: Зайнятість ліжка (%) | U28: =СМД_Вхідні_дані!B81 -> Загальна кількість ліжок закладу (од.) | V28: =СМД_Вхідні_дані!C81 -> 0 | W28: =IFERROR(V28/(V29*365),0) -> 0 | X28: =CМД_Цільові_значення!N16 -> > | Y28: =CМД_Цільові_значення!O16 -> 0.8 | Z28: 0.05 | AA28: =IF(W28>Y28,CМД_Розрахунки!Z28,0) -> 0
C29: =СМД_Вхідні_дані!B56 -> Чисельність персоналу, що працює більше 1 року (ос.) | D29: =СМД_Вхідні_дані!C56 -> 0 | L29: =СМД_Вхідні_дані!B71 -> Мінімальний розмір оплати праці для осіб, які займають лікарські посади, за виконану у повному обсязі місячну (годинну) норму праці (грн) | M29: =СМД_Вхідні_дані!C71 -> 0 | U29: =СМД_Вхідні_дані!B82 -> Тривалість перебування пацієнтів (дн.) | V29: =СМД_Вхідні_дані!C82 -> 0
B30: Плинність кадрів (%) | C30: =СМД_Вхідні_дані!B49 -> Загальна чисельність персоналу закладу (ос.) | D30: =СМД_Вхідні_дані!C49 -> 0 | E30: =IFERROR(D31/D30,0) -> 0 | F30: =CМД_Цільові_значення!D17 -> < | G30: =CМД_Цільові_значення!E17 -> 0.65 | H30: 0.05 | I30: =IF(AND(СМД_Вхідні_дані!C49>0,E30>0,E30<=G30),CМД_Розрахунки!H30,0) -> 0 | K30: Середнє співвідношення середньомісячної заробітної плати середнього медичного персоналу закладу із встановленим мінімальним розміром оплати праці (%) | L30: Середньомісячна заробітна плата середнього медичного персоналу (грн) | M30: =СМД_Вхідні_дані!C68 -> 0 | N30: =IFERROR(M30/M31,0) -> 0 | O30: =CМД_Цільові_значення!I17 -> > | P30: =CМД_Цільові_значення!J17 -> 1 | Q30: 0.05 | R30: =IF(N30>P30,CМД_Розрахунки!Q30,0) -> 0 | T30: Коефіцієнт повторної госпіталізації (%) | U30: =СМД_Вхідні_дані!B83 -> Кількість пацієнтів, які були повторно госпіталізовані протягом місяця з приводу одного і того ж захворювання до того ж самого відділення закладу (ос.) | V30: =СМД_Вхідні_дані!C83 -> 0 | W30: =IFERROR(V30/V31,0) -> 0 | X30: =CМД_Цільові_значення!N17 -> < | Y30: =CМД_Цільові_значення!O17 -> 0.2 | Z30: 0.05 | AA30: =IF(СМД_Вхідні_дані!C84>0,IF(W30<Y30,CМД_Розрахунки!Z30,0),0) -> 0
C31: =СМД_Вхідні_дані!B57 -> Чисельність персоналу, звільненого за власним бажанням (ос.) | D31: =СМД_Вхідні_дані!C57 -> 0 | L31: =СМД_Вхідні_дані!B72 -> Мінімальний розмір оплати праці для осіб, які займають посади у закладах охорони здоров’я, віднесені єдиними кваліфікаційними вимогами до посад фахівців, за виконану у повному обсязі місячну (годинну) норму праці (грн) | M31: =СМД_Вхідні_дані!C72 -> 0 | U31: =СМД_Вхідні_дані!B84 -> Загальна кількість госпіталізованих пацієнтів (ос.) | V31: =СМД_Вхідні_дані!C84 -> 0
B32: Коефіцієнт перекваліфікації (підвищення кваліфікації) персоналу (%) | C32: Кількість лікарів (ос.) | D32: =СМД_Вхідні_дані!C52 -> 0 | E32: =IFERROR(D33/D32,0) -> 0 | F32: =CМД_Цільові_значення!D18 -> = | G32: =CМД_Цільові_значення!E18 -> 1 | H32: 0.05 | I32: =IF(E32=G32,CМД_Розрахунки!H32,0) -> 0 | K32: Середнє співвідношення середньомісячної заробітної плати молодшого медичного персоналу закладу із встановленим мінімальним розміром оплати праці (%) | L32: Середньомісячна заробітна плата молодшого медичного персоналу (грн) | M32: =СМД_Вхідні_дані!C69 -> 0 | N32: =IFERROR(M32/M33,0) -> 0 | O32: =CМД_Цільові_значення!I18 -> > | P32: =CМД_Цільові_значення!J18 -> 1 | Q32: 0.05 | R32: =IF(N32>P32,CМД_Розрахунки!Q32,0) -> 0 | T32: Рівень післяопераційної летальності (%) | U32: =СМД_Вхідні_дані!B85 -> Кількість прооперованих пацієнтів, які померли (ос.) | V32: =СМД_Вхідні_дані!C85 -> 0 | W32: =IFERROR(V32/V33,0) -> 0 | X32: =CМД_Цільові_значення!N18 -> < | Y32: =CМД_Цільові_значення!O18 -> 0.05 | Z32: 0.05 | AA32: =IF(СМД_Вхідні_дані!C85>0,IF(W32<Y32,CМД_Розрахунки!Z32,0),0) -> 0
C33: =СМД_Вхідні_дані!B59 -> Кількість лікарів, які отримали щонайменше 50 балів БПР (за рік) (ос.) | D33: =СМД_Вхідні_дані!C59 -> 0 | L33: =СМД_Вхідні_дані!B73 -> Мінімальний розмір оплати праці для осіб, які займають посади молодшого медичного персоналу, за виконану у повному обсязі місячну (годинну) норму праці (грн) | M33: =СМД_Вхідні_дані!C73 -> 0 | U33: =СМД_Вхідні_дані!B86 -> Загальна кількість пацієнтів, які були прооперовані (ос.) | V33: =СМД_Вхідні_дані!C86 -> 0
B34: Кадровий потенціал (%) | C34: =СМД_Вхідні_дані!B49 -> Загальна чисельність персоналу закладу (ос.) | D34: =СМД_Вхідні_дані!C49 -> 0 | E34: =IFERROR(D35/D34,0) -> 0 | F34: =CМД_Цільові_значення!D20 -> > | G34: =CМД_Цільові_значення!E20 -> 0.5 | H34: 0.05 | I34: =IF(AND(СМД_Вхідні_дані!C58>0,E34>0,E34>=G34),CМД_Розрахунки!H34,0) -> 0 | K34: Кількість середньомісячних фондів оплати праці забезпечених залишками грошових коштів (од.) | L34: =СМД_Вхідні_дані!B74 -> Витрати на оплату праці (грн) | M34: =СМД_Вхідні_дані!C74 -> 0 | N34: =IFERROR(M36/((M34+M35)/M37),0) -> 0 | O34: =CМД_Цільові_значення!I19 -> >= | P34: =CМД_Цільові_значення!J19 -> 2 | Q34: 0.05 | R34: =IF(AND(M33>0,OR(N34>P34,N34=P34),OR(N34<P36,N34=P36)),Q34,IF(AND(M33=0,OR(N34>P34,N34=P34),OR(N34<P36,N34=P36)),(Q34+Q32),0)) -> 0 | T34: Скарги пацієнтів на неформальні платежі (%) | U34: =СМД_Вхідні_дані!B87 -> Частка скарг пацієнтів з виявленими порушеннями (%) | V34: =СМД_Вхідні_дані!C87 -> 0 | W34: =СМД_Вхідні_дані!C87 -> 0 | X34: =CМД_Цільові_значення!N20 -> = | Y34: =CМД_Цільові_значення!O20 -> 0 | Z34: 0.05 | AA34: =IF(ISBLANK(СМД_Вхідні_дані!C87),0,IF(CМД_Розрахунки!W34>CМД_Цільові_значення!O20,0,CМД_Розрахунки!Z34)) -> 0
C35: =СМД_Вхідні_дані!B58 -> Чисельність персоналу віком до 44 років (ос.) | D35: =СМД_Вхідні_дані!C58 -> 0 | L35: =СМД_Вхідні_дані!B75 -> Відрахування на соціальні заходи (грн) | M35: =СМД_Вхідні_дані!C75 -> 0
L36: =СМД_Вхідні_дані!B76 -> Гроші та їх еквіваленти (грн) | M36: =СМД_Вхідні_дані!C76 -> 0 | O36: =CМД_Цільові_значення!I20 -> <= | P36: =CМД_Цільові_значення!J20 -> 3
L37: =СМД_Вхідні_дані!B77 -> Кількість місяців, за який проводиться аналіз (міс.) | M37: =СМД_Вхідні_дані!C77 -> 0

Sheet tech
B1: квартал | C1: 3
B2: півріччя | C2: 6 | H2: 2019 | I2: 370
B3: рік | C3: 12 | H3: 2020 | I3: =(600.48*10+651.5*2)/12 -> 608.98333
C4: 0 | H4: 2021 | I4: 651.6
B5: абсолютна | C5: 0.91 | D5: 1 | H5: 2022 | I5: 786.65
B6: нормальна | C6: 0.61 | D6: 0.9 | H6: 2023 | I6: 786.65
B7: задовільна | C7: 0.51 | D7: 0.6 | H7: 2024 | I7: 786.65
B8: незадовільна | C8: 0.5 | H8: 2025 | I8: 844.4
C10: лікарі | D10: середній медичний персонал | E10: молодший медичний персонал
B12: територія активних бойових дій та територія активних бойових дій, на яких функціонують держ. ел. інформ. ресурси (наказ Мінреінтеграції) | C12: 28000 | D12: 18000 | E12: 9000
B13: територія можливих бойових дій (наказ Мінреінтеграції) | C13: 23000 | D13: 15500 | E13: 8000
B14: інша територія (не зазначена у наказі Мінреінтеграції) | C14: 20000 | D14: 13500 | E14: 0
B19: ПМД (Звіт про доходи та витрати надавачів медичних послуг (окремі показники)) | C19: Середньомісячна заробітна плата одного штатного пацівника 1-3 квартали 2024 року (останні наявні дані) | E19: СМД (Звіт про доходи та витрати надавачів медичних послуг (окремі показники)) | F19: Середньомісячна заробітна плата одного штатного пацівника 1-3 квартали 2024 року (останні наявні дані)
B20: Автономна Республіка Крим | C20: 0 | E20: Автономна Республіка Крим | F20: 0
B21: Вінницька | C21: 14649.857 | E21: Вінницька | F21: 16383.235
B22: Волинська | C22: 14706.285 | E22: Волинська | F22: 17482.249
B23: Дніпропетровська | C23: 17694.499 | E23: Дніпропетровська | F23: 18513.716
B24: Донецька | C24: 16931.304 | E24: Донецька | F24: 18099.797
B25: Житомирська | C25: 15334.937 | E25: Житомирська | F25: 16057.376
B26: Закарпатська | C26: 17561.433 | E26: Закарпатська | F26: 14674.881
B27: Запорізька | C27: 16832.935 | E27: Запорізька | F27: 16540.657
B28: Івано-Франківська | C28: 15719.545 | E28: Івано-Франківська | F28: 15663.839
B29: Київська | C29: 18384.999 | E29: Київська | F29: 15958.244
B30: Кіровоградська | C30: 14786.337 | E30: Кіровоградська | F30: 14710.862
B31: Луганська | C31: 24240.234 | E31: Луганська | F31: 24097.146
... B45: м. Київ | C45: 21562.889 | E45: м. Київ | F45: 18886.435
B46: https://edata.e-health.gov.ua/e-data/dashboard/1-hc
B49: ПМД
C50: індив.оцінка | D50: max оцінка
B51: Пацієнти | C51: =ПМД_Розрахунки!$AA$27 -> 0 | D51: 0.2
B52: Оплата праці | C52: =ПМД_Розрахунки!$R$27 -> 0 | D52: 0.2
B53: Персонал | C53: =ПМД_Розрахунки!$I$27 -> 0 | D53: 0.2
B54: Результативність | C54: =ПМД_Розрахунки!$AA$13 -> 0 | D54: 0.1
B55: Витрати | C55: =ПМД_Розрахунки!$R$13 -> 0 | D55: 0.1
B56: Доходи | C56: =ПМД_Розрахунки!$I$13 -> 0 | D56: 0.2
B60: СМД
C61: індив.оцінка | D61: max оцінка
B62: Пацієнти | C62: =CМД_Розрахунки!AA27 -> 0 | D62: 0.2
B63: Оплата праці | C63: =CМД_Розрахунки!R27 -> 0 | D63: 0.2
B64: Персонал | C64: =CМД_Розрахунки!I27 -> 0 | D64: 0.2
...
